BEGIN:VCALENDAR
VERSION:2.0
PRODID:-//wp-events-plugin.com//7.2.3.1//EN
TZID:America/New_York
X-WR-TIMEZONE:America/New_York
BEGIN:VEVENT
UID:23@uniontwpmc.com
DTSTART;TZID=America/New_York:20250804T180000
DTEND;TZID=America/New_York:20250804T190000
DTSTAMP:20250715T033454Z
URL:https://uniontwpmc.com/all-events/township-supervisors-meeting-2/
SUMMARY:Township Supervisors Meeting
DESCRIPTION:
LOCATION:Union Township Office Building\, 95 North Penn Street\, Belleville
 \, PA\, 17004\, United States
X-APPLE-STRUCTURED-LOCATION;VALUE=URI;X-ADDRESS=95 North Penn Street\, Bell
 eville\, PA\, 17004\, United States;X-APPLE-RADIUS=100;X-TITLE=Union Towns
 hip Office Building:geo:0,0
END:VEVENT
BEGIN:VTIMEZONE
TZID:America/New_York
X-LIC-LOCATION:America/New_York
BEGIN:DAYLIGHT
DTSTART:20250309T030000
TZOFFSETFROM:-0500
TZOFFSETTO:-0400
TZNAME:EDT
END:DAYLIGHT
END:VTIMEZONE
END:VCALENDAR