BEGIN:VCALENDAR
VERSION:2.0
PRODID:-//wp-events-plugin.com//7.2.3.1//EN
TZID:America/New_York
X-WR-TIMEZONE:America/New_York
BEGIN:VEVENT
UID:5@uniontwpmc.com
DTSTART;TZID=America/New_York:20240603T180000
DTEND;TZID=America/New_York:20240603T193000
DTSTAMP:20240529T005430Z
URL:https://uniontwpmc.com/all-events/township-board-of-supervisors-meetin
 g-2024-06-03/
SUMMARY:Township Board of Supervisors Meeting
DESCRIPTION:[et_pb_section admin_label="section"]\n			[et_pb_row admin_labe
 l="row"]\n				[et_pb_column type="4_4"][et_pb_text admin_label="Text"]Regu
 lar Meetings\n\n1st Monday of every Month\nTime: 6:00pm\nLocation: Armagh 
 Township Municipal Building\n283 Broad Street\, Milroy\, PA 17063[/et_pb_t
 ext][/et_pb_column]\n			[/et_pb_row]\n		[/et_pb_section]
LOCATION:Armagh Township Municipal Building\, 283 Broad Street\, Milroy\, P
 A\, 17063\, United Kingdom
X-APPLE-STRUCTURED-LOCATION;VALUE=URI;X-ADDRESS=283 Broad Street\, Milroy\,
  PA\, 17063\, United Kingdom;X-APPLE-RADIUS=100;X-TITLE=Armagh Township Mu
 nicipal Building:geo:0,0
END:VEVENT
BEGIN:VTIMEZONE
TZID:America/New_York
X-LIC-LOCATION:America/New_York
BEGIN:DAYLIGHT
DTSTART:20240310T030000
TZOFFSETFROM:-0500
TZOFFSETTO:-0400
TZNAME:EDT
END:DAYLIGHT
END:VTIMEZONE
END:VCALENDAR